BEGIN:VCALENDAR
VERSION:2.0
PRODID:-//Birmingham Friends (Quaker) Meeting - ECPv6.15.20//NONSGML v1.0//EN
CALSCALE:GREGORIAN
METHOD:PUBLISH
X-ORIGINAL-URL:https://birminghamquaker.org
X-WR-CALDESC:Events for Birmingham Friends (Quaker) Meeting
REFRESH-INTERVAL;VALUE=DURATION:PT1H
X-Robots-Tag:noindex
X-PUBLISHED-TTL:PT1H
BEGIN:VTIMEZONE
TZID:America/New_York
BEGIN:DAYLIGHT
TZOFFSETFROM:-0500
TZOFFSETTO:-0400
TZNAME:EDT
DTSTART:20240310T070000
END:DAYLIGHT
BEGIN:STANDARD
TZOFFSETFROM:-0400
TZOFFSETTO:-0500
TZNAME:EST
DTSTART:20241103T060000
END:STANDARD
BEGIN:DAYLIGHT
TZOFFSETFROM:-0500
TZOFFSETTO:-0400
TZNAME:EDT
DTSTART:20250309T070000
END:DAYLIGHT
BEGIN:STANDARD
TZOFFSETFROM:-0400
TZOFFSETTO:-0500
TZNAME:EST
DTSTART:20251102T060000
END:STANDARD
BEGIN:DAYLIGHT
TZOFFSETFROM:-0500
TZOFFSETTO:-0400
TZNAME:EDT
DTSTART:20260308T070000
END:DAYLIGHT
BEGIN:STANDARD
TZOFFSETFROM:-0400
TZOFFSETTO:-0500
TZNAME:EST
DTSTART:20261101T060000
END:STANDARD
END:VTIMEZONE
BEGIN:VEVENT
DTSTART;TZID=America/New_York:20250315T080000
DTEND;TZID=America/New_York:20250315T120000
DTSTAMP:20260420T043959
CREATED:20250303T033355Z
LAST-MODIFIED:20250303T033355Z
UID:875-1742025600-1742040000@birminghamquaker.org
SUMMARY:SAYMA Representative Meeting
DESCRIPTION:Representative Meeting 154 \nSAYMA’s Spring Representative Meeting is open to all interested in attending. It will be split into two 4-hour online meetings. Representatives should plan to attend both meetings. \n\nSaturday\, March 15\, 9 am-1 pm ET (8 am-12 pm CT)\nSunday\, March 16\, 1-5 pm ET (12-4 pm CT)\n\nRegistration will open in early March on the SAYMA website: https://www.sayma.org/
URL:https://birminghamquaker.org/event/sayma-representative-meeting/
CATEGORIES:Business
ATTACH;FMTTYPE=image/jpeg:https://birminghamquaker.org/wp-content/uploads/2023/05/saymalogoforweb.jpeg
END:VEVENT
END:VCALENDAR